Workbook

Sheet Program Cost at Current Staffin
C1: BUDGET: PROJECTED PROGRAM COST
C3: Agency Name: | D3: ABC Workforce Services
C4: Project Name: | D4: OPA LOCKA
C5: Period: | D5: 10/01/2017 to 06/30/2017 | G5: 9 | H5: months
G8: FUNDING SOURCE: Example, WIOA Adult, WIOA Dislocated Worker, Welfare Transition, UC, REA, Other.
A9: GL #'s | C9: NAME OF FUNDING SOURCE: | G9: TANF/Welfare Trans. | J9: WIOA Adult | M9: WIOA Dislocated | P9: WIOA RAPID R. | S9: FSET (July-Sept) | V9: FSET (Oct-June) | Y9: UC | AB9: REA & RA | AE9: TOTAL
G10: % | H10: Amount | J10: % | K10: Amount | M10: % | N10: Amount | P10: % | Q10: Amount | S10: % | T10: Amount | V10: % | W10: Amount | Y10: % | Z10: Amount | AB10: % | AC10: Amount | AE10: % | AF10: Amount
G11: 0.388 | J11: 0.158 | M11: 0.275 | P11: 0.068 | S11: 0.016 | V11: 0.049 | Y11: 0.007 | AB11: 0.039 | AE11: =G11+J11+M11+P11+AB11+S11+V11+Y11 -> 1
C12: Salaries:
B13: Name | C13: Position | D13: Annual Salary | E13: Projected
B14: Hermina Hyacinth | C14: Center Supervisor | D14: 36000 | E14: =SUM(D14*31%)+D14 -> 47160 | G14: 0.388 | H14: =ROUND(+$E14*G14,0) -> 18298 | J14: 0.158 | K14: =ROUND(+$E14*J14,0) -> 7451 | M14: 0.275 | N14: =ROUND(+$E14*M14,0) -> 12969 | P14: 0.068 | Q14: =ROUND(+$E14*P14,0) -> 3207 | S14: 0.016 | T14: =ROUND(+$E14*S14,0) -> 755 | V14: 0.049 | W14: =ROUND(+$E14*V14,0) -> 2311 | Y14: 0.007 | Z14: =ROUND(+$E14*Y14,0) -> 330 | AB14: 0.039 | AC14: =ROUND(+$E14*AB14,0) -> 1839 | AE14: =G14+J14+M14+P14+AB14+S14+V14+Y14 -> 1 | AF14: =+H14+K14+N14+Q14+AC14+T14+W14+Z14 -> 47160
B15: Tabatha McDaniel | C15: Career Advisor | D15: 24000 | E15: =SUM(D15*31%)+D15 -> 31440 | G15: 0.388 | H15: =ROUND(+$E15*G15,0) -> 12199 | J15: 0.158 | K15: =ROUND(+$E15*J15,0) -> 4968 | M15: 0.275 | N15: =ROUND(+$E15*M15,0) -> 8646 | P15: 0.068 | Q15: =ROUND(+$E15*P15,0) -> 2138 | S15: 0.016 | T15: =ROUND(+$E15*S15,0) -> 503 | V15: 0.049 | W15: =ROUND(+$E15*V15,0) -> 1541 | Y15: 0.007 | Z15: =ROUND(+$E15*Y15,0) -> 220 | AB15: 0.039 | AC15: =ROUND(+$E15*AB15,0) -> 1226 | AE15: =G15+J15+M15+P15+AB15+S15+V15+Y15 -> 1 | AF15: =+H15+K15+N15+Q15+AC15+T15+W15+Z15 -> 31441
B16: Gizelle Valmond | C16: Career Advisor | D16: 26520 | E16: =SUM(D16*31%)+D16 -> 34741.2 | G16: 0.388 | H16: =ROUND(+$E16*G16,0) -> 13480 | J16: 0.158 | K16: =ROUND(+$E16*J16,0) -> 5489 | M16: 0.275 | N16: =ROUND(+$E16*M16,0) -> 9554 | P16: 0.068 | Q16: =ROUND(+$E16*P16,0) -> 2362 | S16: 0.016 | T16: =ROUND(+$E16*S16,0) -> 556 | V16: 0.049 | W16: =ROUND(+$E16*V16,0) -> 1702 | Y16: 0.007 | Z16: =ROUND(+$E16*Y16,0) -> 243 | AB16: 0.039 | AC16: =ROUND(+$E16*AB16,0) -> 1355 | AE16: =G16+J16+M16+P16+AB16+S16+V16+Y16 -> 1 | AF16: =+H16+K16+N16+Q16+AC16+T16+W16+Z16 -> 34741
B17: Mauricio Hawkins | C17: Program Specialist | D17: 19328 | E17: =SUM(D17*31%)+D17 -> 25319.68 | G17: 0.388 | H17: =ROUND(+$E17*G17,0) -> 9824 | J17: 0.158 | K17: =ROUND(+$E17*J17,0) -> 4001 | M17: 0.275 | N17: =ROUND(+$E17*M17,0) -> 6963 | P17: 0.068 | Q17: =ROUND(+$E17*P17,0) -> 1722 | S17: 0.016 | T17: =ROUND(+$E17*S17,0) -> 405 | V17: 0.049 | W17: =ROUND(+$E17*V17,0) -> 1241 | Y17: 0.007 | Z17: =ROUND(+$E17*Y17,0) -> 177 | AB17: 0.039 | AC17: =ROUND(+$E17*AB17,0) -> 987 | AE17: =G17+J17+M17+P17+AB17+S17+V17+Y17 -> 1 | AF17: =+H17+K17+N17+Q17+AC17+T17+W17+Z17 -> 25320
B18: Claudia Corvea | C18: Program Specialist | D18: 19328 | E18: =SUM(D18*31%)+D18 -> 25319.68 | G18: 0.388 | H18: =ROUND(+$E18*G18,0) -> 9824 | J18: 0.158 | K18: =ROUND(+$E18*J18,0) -> 4001 | M18: 0.275 | N18: =ROUND(+$E18*M18,0) -> 6963 | P18: 0.068 | Q18: =ROUND(+$E18*P18,0) -> 1722 | S18: 0.016 | T18: =ROUND(+$E18*S18,0) -> 405 | V18: 0.049 | W18: =ROUND(+$E18*V18,0) -> 1241 | Y18: 0.007 | Z18: =ROUND(+$E18*Y18,0) -> 177 | AB18: 0.039 | AC18: =ROUND(+$E18*AB18,0) -> 987 | AE18: =G18+J18+M18+P18+AB18+S18+V18+Y18 -> 1 | AF18: =+H18+K18+N18+Q18+AC18+T18+W18+Z18 -> 25320
B19: Jimmy Thomas | C19: Placement Specialist | D19: 24000 | E19: =SUM(D19*31%)+D19 -> 31440 | G19: 0.388 | H19: =ROUND(+$E19*G19,0) -> 12199 | J19: 0.158 | K19: =ROUND(+$E19*J19,0) -> 4968 | M19: 0.275 | N19: =ROUND(+$E19*M19,0) -> 8646 | P19: 0.068 | Q19: =ROUND(+$E19*P19,0) -> 2138 | S19: 0.016 | T19: =ROUND(+$E19*S19,0) -> 503 | V19: 0.049 | W19: =ROUND(+$E19*V19,0) -> 1541 | Y19: 0.007 | Z19: =ROUND(+$E19*Y19,0) -> 220 | AB19: 0.039 | AC19: =ROUND(+$E19*AB19,0) -> 1226 | AE19: =G19+J19+M19+P19+AB19+S19+V19+Y19 -> 1 | AF19: =+H19+K19+N19+Q19+AC19+T19+W19+Z19 -> 31441
H20: =ROUND(+$E20*G20,0) -> 0 | K20: =ROUND(+$E20*J20,0) -> 0 | N20: =ROUND(+$E20*M20,0) -> 0 | Q20: =ROUND(+$E20*P20,0) -> 0 | T20: =ROUND(+$E20*S20,0) -> 0 | W20: =ROUND(+$E20*V20,0) -> 0 | Z20: =ROUND(+$E20*Y20,0) -> 0 | AC20: =ROUND(+$E20*AB20,0) -> 0 | AF20: =+H20+K20+N20+Q20+AC20+T20+W20+Z20 -> 0
H21: =ROUND(+$E21*G21,0) -> 0 | K21: =ROUND(+$E21*J21,0) -> 0 | N21: =ROUND(+$E21*M21,0) -> 0 | Q21: =ROUND(+$E21*P21,0) -> 0 | T21: =ROUND(+$E21*S21,0) -> 0 | W21: =ROUND(+$E21*V21,0) -> 0 | Z21: =ROUND(+$E21*Y21,0) -> 0 | AC21: =ROUND(+$E21*AB21,0) -> 0 | AF21: =+H21+K21+N21+Q21+AC21+T21+W21+Z21 -> 0
A22: 5001 | C22: TOTAL FTE/Salaries | D22: =SUM(D14:D21) -> 149176 | E22: =SUM(E14:E21) -> 195420.56 | G22: =SUM(G14:G20) -> 2.328 | H22: =SUM(H14:H21) -> 75824 | J22: =SUM(J14:J20) -> 0.948 | K22: =SUM(K14:K21) -> 30878 | M22: =SUM(M14:M20) -> 1.65 | N22: =SUM(N14:N21) -> 53741 | P22: =SUM(P14:P20) -> 0.408 | Q22: =SUM(Q14:Q21) -> 13289 | S22: =SUM(S14:S20) -> 0.096 | T22: =SUM(T14:T21) -> 3127 | V22: =SUM(V14:V20) -> 0.294 | W22: =SUM(W14:W21) -> 9577 | Y22: =SUM(Y14:Y20) -> 0.042 | Z22: =SUM(Z14:Z21) -> 1367 | AB22: =SUM(AB14:AB20) -> 0.234 | AC22: =SUM(AC14:AC21) -> 7620 | AE22: =G22+J22+M22+P22+AB22+S22+V22+Y22 -> 6 | AF22: =SUM(AF14:AF21) -> 195423
H23: =+H22/AF22 -> 0.38799937 | K23: =+K22/AF22 -> 0.15800597 | N23: =+N22/AF22 -> 0.27499834 | Q23: =+Q22/AF22 -> 0.068001208 | T23: =+T22/AF22 -> 0.016001187 | W23: =+W22/AF22 -> 0.049006514 | Z23: =+Z22/AF22 -> 0.0069950825 | AC23: =+AC22/AF22 -> 0.03899234
C24: Fringe Benefits:
A25: 5033 | C25: Executive Fringes | AF25: =+H25+K25+N25+Q25+AC25 -> 0
C27: Fica/Mica | D27: Rate: | E27: 0.0765 | AF27: =+H27+K27+N27+Q27+AC27+T27+W27+Z27 -> 0
C28: Workman's Comp | D28: Rate: | E28: 0.025 | AF28: =+H28+K28+N28+Q28+AC28+T28+W28+Z28 -> 0
C29: Unemployment | D29: Rate: | E29: 0.0125 | AF29: =+H29+K29+N29+Q29+AC29+T29+W29+Z29 -> 0
C30: Health Ins. | D30: Monthly Cost per staff: | E30: 0 | AF30: =+H30+K30+N30+Q30+AC30+T30+W30+Z30 -> 0
C31: Life Ins. | D31: Monthly Cost per staff: | E31: 0 | H31: =ROUND(+$E31*G$22*$G$5,0) -> 0 | K31: =ROUND(+$E31*J$22*$G$5,0) -> 0 | N31: =ROUND(+$E31*M$22*$G$5,0) -> 0 | Q31: =ROUND(+$E31*P$22*$G$5,0) -> 0 | T31: =ROUND(+$E31*S$22*$G$5,0) -> 0 | W31: =ROUND(+$E31*V$22*$G$5,0) -> 0 | Z31: =ROUND(+$E31*Y$22*$G$5,0) -> 0 | AC31: =ROUND(+$E31*AB$22*$G$5,0) -> 0 | AF31: =+H31+K31+N31+Q31+AC31 -> 0
C32: Retirement | H32: 0 | K32: 0 | AF32: 0
C33: Other
AF34: =+H34+K34+N34+Q34+AC34 -> 0
A37: 5054 | C37: TOTAL Fringe Benefits | E37: =+AF37/AF22 -> 0 | H37: =SUM(H27:H36) -> 0 | K37: =SUM(K27:K36) -> 0 | N37: =SUM(N27:N36) -> 0 | Q37: =SUM(Q27:Q36) -> 0 | T37: =SUM(T27:T36) -> 0 | W37: =SUM(W27:W36) -> 0 | Z37: =SUM(Z27:Z36) -> 0 | AC37: =SUM(AC27:AC36) -> 0 | AF37: =SUM(AF27:AF36) -> 0
G38: FUNDING SOURCE: Example, WIOA Adult, WIOA Dislocated Worker, WIOA Youth, Children Trust, Other.
AE39: TOTAL
G40: % | H40: Amount | J40: % | K40: Amount | M40: % | N40: Amount | P40: % | Q40: Amount | AB40: % | AC40: Amount | AE40: % | AF40: Amount
C42: Operating Expenses: | E42: Annual Cost
C43: Space
A44: 5210 | C44: Storage | AF44: =+H44+K44+N44+Q44+AC44+T44+W44+Z44 -> 0 | AH44: =+AF44-E44 -> 0
A45: 5211 | C45: Lease / Rent | H45: =ROUND(+$E45*G45,0) -> 0 | K45: =ROUND(+$E45*J45,0) -> 0 | N45: =ROUND(+$E45*M45,0) -> 0 | Q45: =ROUND(+$E45*P45,0) -> 0 | AC45: =ROUND(+$E45*AB45,0) -> 0 | AF45: =+H45+K45+N45+Q45+AC45+T45+W45+Z45 -> 0 | AH45: =+AF45-E45 -> 0
A46: 5216 | C46: Maintenance-Repair | H46: =ROUND(+$E46*G46,0) -> 0 | K46: =ROUND(+$E46*J46,0) -> 0 | N46: =ROUND(+$E46*M46,0) -> 0 | Q46: =ROUND(+$E46*P46,0) -> 0 | AC46: =ROUND(+$E46*AB46,0) -> 0 | AF46: =+H46+K46+N46+Q46+AC46+T46+W46+Z46 -> 0 | AH46: =+AF46-E46 -> 0
A47: 5217 | C47: Security | AF47: =+H47+K47+N47+Q47+AC47+T47+W47+Z47 -> 0 | AH47: =+AF47-E47 -> 0
...

Sheet Program Cost W-Min Staff (A)
C1: BUDGET: PROJECTED PROGRAM COST
C3: Agency Name: | D3: ABC Workforce Services
C4: Project Name: | D4: OPA LOCKA
C5: Period: | D5: 10/01/2017 to 06/30/2017 | G5: 9 | H5: months
G8: FUNDING SOURCE: Example, WIOA Adult, WIOA Dislocated Worker, Welfare Transition, UC, REA, Other.
A9: GL #'s | C9: NAME OF FUNDING SOURCE: | G9: TANF/Welfare Trans. | J9: WIOA Adult | M9: WIOA Dislocated | P9: WIOA RAPID R. | S9: FSET (July-Sept) | V9: FSET (Oct-June) | Y9: UC | AB9: REA & RA | AE9: TOTAL
G10: % | H10: Amount | J10: % | K10: Amount | M10: % | N10: Amount | P10: % | Q10: Amount | S10: % | T10: Amount | V10: % | W10: Amount | Y10: % | Z10: Amount | AB10: % | AC10: Amount | AE10: % | AF10: Amount
G11: 0.388 | J11: 0.158 | M11: 0.275 | P11: 0.068 | S11: 0.016 | V11: 0.049 | Y11: 0.007 | AB11: 0.039 | AE11: =G11+J11+M11+P11+AB11+S11+V11+Y11 -> 1
C12: Salaries:
B13: Name | C13: Position | D13: Annual Salary | E13: Projected
B14: TBD | C14: Center Supervisor | D14: 36000 | E14: =SUM(D14*31%)+D14 -> 47160 | G14: 0.388 | H14: =ROUND(+$E14*G14,0) -> 18298 | J14: 0.158 | K14: =ROUND(+$E14*J14,0) -> 7451 | M14: 0.275 | N14: =ROUND(+$E14*M14,0) -> 12969 | P14: 0.068 | Q14: =ROUND(+$E14*P14,0) -> 3207 | S14: 0.016 | T14: =ROUND(+$E14*S14,0) -> 755 | V14: 0.049 | W14: =ROUND(+$E14*V14,0) -> 2311 | Y14: 0.007 | Z14: =ROUND(+$E14*Y14,0) -> 330 | AB14: 0.039 | AC14: =ROUND(+$E14*AB14,0) -> 1839 | AE14: =G14+J14+M14+P14+AB14+S14+V14+Y14 -> 1 | AF14: =+H14+K14+N14+Q14+AC14+T14+W14+Z14 -> 47160
B15: Cy Prince | C15: Business Consultant | D15: 30000 | E15: =SUM(D15*31%)+D15 -> 39300 | G15: 0.388 | H15: =ROUND(+$E15*G15,0) -> 15248 | J15: 0.158 | K15: =ROUND(+$E15*J15,0) -> 6209 | M15: 0.275 | N15: =ROUND(+$E15*M15,0) -> 10808 | P15: 0.068 | Q15: =ROUND(+$E15*P15,0) -> 2672 | S15: 0.016 | T15: =ROUND(+$E15*S15,0) -> 629 | V15: 0.049 | W15: =ROUND(+$E15*V15,0) -> 1926 | Y15: 0.007 | Z15: =ROUND(+$E15*Y15,0) -> 275 | AB15: 0.039 | AC15: =ROUND(+$E15*AB15,0) -> 1533 | AE15: =G15+J15+M15+P15+AB15+S15+V15+Y15 -> 1 | AF15: =+H15+K15+N15+Q15+AC15+T15+W15+Z15 -> 39300
B16: Tabatha McDaniel | C16: Career Advisor | D16: 24000 | E16: =SUM(D16*31%)+D16 -> 31440 | G16: 0.388 | H16: =ROUND(+$E16*G16,0) -> 12199 | J16: 0.158 | K16: =ROUND(+$E16*J16,0) -> 4968 | M16: 0.275 | N16: =ROUND(+$E16*M16,0) -> 8646 | P16: 0.068 | Q16: =ROUND(+$E16*P16,0) -> 2138 | S16: 0.016 | T16: =ROUND(+$E16*S16,0) -> 503 | V16: 0.049 | W16: =ROUND(+$E16*V16,0) -> 1541 | Y16: 0.007 | Z16: =ROUND(+$E16*Y16,0) -> 220 | AB16: 0.039 | AC16: =ROUND(+$E16*AB16,0) -> 1226 | AE16: =G16+J16+M16+P16+AB16+S16+V16+Y16 -> 1 | AF16: =+H16+K16+N16+Q16+AC16+T16+W16+Z16 -> 31441
B17: Mauricio Hawkins | C17: Program Specialist | D17: 19328 | E17: =SUM(D17*31%)+D17 -> 25319.68 | G17: 0.388 | H17: =ROUND(+$E17*G17,0) -> 9824 | J17: 0.158 | K17: =ROUND(+$E17*J18,0) -> 4001 | M17: 0.275 | N17: =ROUND(+$E17*M17,0) -> 6963 | P17: 0.068 | Q17: =ROUND(+$E17*P17,0) -> 1722 | S17: 0.016 | T17: =ROUND(+$E17*S17,0) -> 405 | V17: 0.049 | W17: =ROUND(+$E17*V17,0) -> 1241 | Y17: 0.007 | Z17: =ROUND(+$E17*Y17,0) -> 177 | AB17: 0.039 | AC17: =ROUND(+$E17*AB17,0) -> 987 | AE17: =G17+J18+M17+P17+AB17+S17+V17+Y17 -> 1 | AF17: =+H17+K17+N17+Q17+AC17+T17+W17+Z17 -> 25320
B18: Claudia Corvea | C18: Program Specialist | D18: 19328 | E18: =SUM(D18*31%)+D18 -> 25319.68 | G18: 0.388 | H18: =ROUND(+$E18*G18,0) -> 9824 | J18: 0.158 | K18: =ROUND(+$E18*J19,0) -> 4001 | M18: 0.275 | N18: =ROUND(+$E18*M18,0) -> 6963 | P18: 0.068 | Q18: =ROUND(+$E18*P18,0) -> 1722 | S18: 0.016 | T18: =ROUND(+$E18*S18,0) -> 405 | V18: 0.049 | W18: =ROUND(+$E18*V18,0) -> 1241 | Y18: 0.007 | Z18: =ROUND(+$E18*Y18,0) -> 177 | AB18: 0.039 | AC18: =ROUND(+$E18*AB18,0) -> 987 | AE18: =G18+J19+M18+P18+AB18+S18+V18+Y18 -> 1 | AF18: =+H18+K18+N18+Q18+AC18+T18+W18+Z18 -> 25320
B19: Jimmy Thomas | C19: Placement Specialist | D19: 24000 | E19: =SUM(D19*31%)+D19 -> 31440 | G19: 0.388 | H19: =ROUND(+$E19*G19,0) -> 12199 | J19: 0.158 | K19: =ROUND(+$E19*J19,0) -> 4968 | M19: 0.275 | N19: =ROUND(+$E19*M19,0) -> 8646 | P19: 0.068 | Q19: =ROUND(+$E19*P19,0) -> 2138 | S19: 0.016 | T19: =ROUND(+$E19*S19,0) -> 503 | V19: 0.049 | W19: =ROUND(+$E19*V19,0) -> 1541 | Y19: 0.007 | Z19: =ROUND(+$E19*Y19,0) -> 220 | AB19: 0.039 | AC19: =ROUND(+$E19*AB19,0) -> 1226 | AE19: =G19+J19+M19+P19+AB19+S19+V19+Y19 -> 1 | AF19: =+H19+K19+N19+Q19+AC19+T19+W19+Z19 -> 31441
H20: =ROUND(+$E20*G20,0) -> 0 | K20: =ROUND(+$E20*J20,0) -> 0 | N20: =ROUND(+$E20*M20,0) -> 0 | Q20: =ROUND(+$E20*P20,0) -> 0 | T20: =ROUND(+$E20*S20,0) -> 0 | W20: =ROUND(+$E20*V20,0) -> 0 | Z20: =ROUND(+$E20*Y20,0) -> 0 | AC20: =ROUND(+$E20*AB20,0) -> 0 | AF20: =+H20+K20+N20+Q20+AC20+T20+W20+Z20 -> 0
H21: =ROUND(+$E21*G21,0) -> 0 | K21: =ROUND(+$E21*J21,0) -> 0 | N21: =ROUND(+$E21*M21,0) -> 0 | Q21: =ROUND(+$E21*P21,0) -> 0 | T21: =ROUND(+$E21*S21,0) -> 0 | W21: =ROUND(+$E21*V21,0) -> 0 | Z21: =ROUND(+$E21*Y21,0) -> 0 | AC21: =ROUND(+$E21*AB21,0) -> 0 | AF21: =+H21+K21+N21+Q21+AC21+T21+W21+Z21 -> 0
A22: 5001 | C22: TOTAL FTE/Salaries | D22: =SUM(D14:D21) -> 152656 | E22: =SUM(E14:E21) -> 199979.36 | G22: =SUM(G14:G20) -> 2.328 | H22: =SUM(H14:H21) -> 77592 | J22: =SUM(J14:J20) -> 0.948 | K22: =SUM(K14:K21) -> 31598 | M22: =SUM(M14:M20) -> 1.65 | N22: =SUM(N14:N21) -> 54995 | P22: =SUM(P14:P20) -> 0.408 | Q22: =SUM(Q14:Q21) -> 13599 | S22: =SUM(S14:S20) -> 0.096 | T22: =SUM(T14:T21) -> 3200 | V22: =SUM(V14:V20) -> 0.294 | W22: =SUM(W14:W21) -> 9801 | Y22: =SUM(Y14:Y20) -> 0.042 | Z22: =SUM(Z14:Z21) -> 1399 | AB22: =SUM(AB14:AB20) -> 0.234 | AC22: =SUM(AC14:AC21) -> 7798 | AE22: =G22+J22+M22+P22+AB22+S22+V22+Y22 -> 6 | AF22: =SUM(AF14:AF21) -> 199982
H23: =+H22/AF22 -> 0.38799492 | K23: =+K22/AF22 -> 0.15800422 | N23: =+N22/AF22 -> 0.27499975 | Q23: =+Q22/AF22 -> 0.06800112 | T23: =+T22/AF22 -> 0.01600144 | W23: =+W22/AF22 -> 0.049009411 | Z23: =+Z22/AF22 -> 0.0069956296 | AC23: =+AC22/AF22 -> 0.038993509
C24: Fringe Benefits:
A25: 5033 | C25: Executive Fringes | AF25: =+H25+K25+N25+Q25+AC25 -> 0
C27: Fica/Mica | D27: Rate: | E27: 0 | AF27: =+H27+K27+N27+Q27+AC27+T27+W27+Z27 -> 0
C28: Workman's Comp | D28: Rate: | E28: 0 | AF28: =+H28+K28+N28+Q28+AC28+T28+W28+Z28 -> 0
C29: Unemployment | D29: Rate: | E29: 0 | AF29: =+H29+K29+N29+Q29+AC29+T29+W29+Z29 -> 0
C30: Health Ins. | D30: Monthly Cost per staff: | E30: 0 | AF30: =+H30+K30+N30+Q30+AC30+T30+W30+Z30 -> 0
C31: Life Ins. | D31: Monthly Cost per staff: | H31: =ROUND(+$E31*G$22*$G$5,0) -> 0 | K31: =ROUND(+$E31*J$22*$G$5,0) -> 0 | N31: =ROUND(+$E31*M$22*$G$5,0) -> 0 | Q31: =ROUND(+$E31*P$22*$G$5,0) -> 0 | T31: =ROUND(+$E31*S$22*$G$5,0) -> 0 | W31: =ROUND(+$E31*V$22*$G$5,0) -> 0 | Z31: =ROUND(+$E31*Y$22*$G$5,0) -> 0 | AC31: =ROUND(+$E31*AB$22*$G$5,0) -> 0 | AF31: =+H31+K31+N31+Q31+AC31 -> 0
C32: Retirement | AF32: 0
C33: Other
E34: 0 | AF34: =+H34+K34+N34+Q34+AC34 -> 0
A37: 5054 | C37: TOTAL Fringe Benefits | E37: =+AF37/AF22 -> 0 | H37: =SUM(H27:H36) -> 0 | K37: =SUM(K27:K36) -> 0 | N37: =SUM(N27:N36) -> 0 | Q37: =SUM(Q27:Q36) -> 0 | T37: =SUM(T27:T36) -> 0 | W37: =SUM(W27:W36) -> 0 | Z37: =SUM(Z27:Z36) -> 0 | AC37: =SUM(AC27:AC36) -> 0 | AF37: 0
G38: FUNDING SOURCE: Example, WIOA Adult, WIOA Dislocated Worker, WIOA Youth, Children Trust, Other.
AE39: TOTAL
G40: % | H40: Amount | J40: % | K40: Amount | M40: % | N40: Amount | P40: % | Q40: Amount | AB40: % | AC40: Amount | AE40: % | AF40: Amount
C42: Operating Expenses: | E42: Annual Cost
C43: Space
A44: 5210 | C44: Storage | AF44: =+H44+K44+N44+Q44+AC44+T44+W44+Z44 -> 0 | AH44: =+AF44-E44 -> 0
A45: 5211 | C45: Lease / Rent | H45: =ROUND(+$E45*G45,0) -> 0 | K45: =ROUND(+$E45*J45,0) -> 0 | N45: =ROUND(+$E45*M45,0) -> 0 | Q45: =ROUND(+$E45*P45,0) -> 0 | AC45: =ROUND(+$E45*AB45,0) -> 0 | AF45: =+H45+K45+N45+Q45+AC45+T45+W45+Z45 -> 0 | AH45: =+AF45-E45 -> 0
A46: 5216 | C46: Maintenance-Repair | H46: =ROUND(+$E46*G46,0) -> 0 | K46: =ROUND(+$E46*J46,0) -> 0 | N46: =ROUND(+$E46*M46,0) -> 0 | Q46: =ROUND(+$E46*P46,0) -> 0 | AC46: =ROUND(+$E46*AB46,0) -> 0 | AF46: =+H46+K46+N46+Q46+AC46+T46+W46+Z46 -> 0 | AH46: =+AF46-E46 -> 0
A47: 5217 | C47: Security | AF47: =+H47+K47+N47+Q47+AC47+T47+W47+Z47 -> 0 | AH47: =+AF47-E47 -> 0
...

Sheet Program Cost
C1: BUDGET: PROJECTED PROGRAM COST
C3: Agency Name:
C4: Project Name:
C5: Period: | F5: 7/1/2024-6/30/2025 | J5: 12 | K5: months | Q5: The Black Shaded Area is Not Applicable to this RFP
A9: GL #'s | C9: NAME OF FUNDING SOURCE: | J9: CSSF | V9: FSET (July-Sept) | AG9: TOTAL
I10: TOTAL | J10: % | K10: Amount | M10: % | N10: Amount | P10: % | Q10: Amount | S10: % | T10: Amount | V10: % | W10: Amount | Z10: % | AA10: Amount | AC10: % | AD10: Amount | AG10: % | AH10: Amount
B11: Name | C11: Position | D11: Hourly Rate of Pay | E11: Projected Salary Mark-up Rate | F11: Annual Salary | G11: Projected
A12: =+Narrative!C5 -> 1 | B12: =Narrative!A5 -> Enter Staff Member Name | C12: =+Narrative!B5 -> Enter Title | D12: =+Narrative!E5 -> 0 | E12: =+Narrative!J5 -> 0 | F12: =+Narrative!H5 -> 0 | G12: =+Narrative!I5 -> 0 | I12: =+G12 -> 0 | J12: 1 | K12: =(+ROUND($I12*J12,0)) -> 0 | M12: 0 | N12: =(+ROUND($I12*M12,0)) -> 0 | P12: 0 | Q12: =(+ROUND($I12*P12,0)) -> 0 | S12: 0 | T12: =(+ROUND($I12*S12,0)) -> 0 | Z12: 0 | AA12: =ROUND(+$G12*Z12,0) -> 0 | AC12: 0 | AD12: =I12-K12-N12-Q12-T12-AA12 -> 0 | AG12: =J12+M12+P12+S12+AC12+Z12 -> 1 | AH12: =K12+N12+Q12+T12+AD12+AA12 -> 0 | AI12: =+I12-AH12 -> 0
A13: =+Narrative!C6 -> 1 | B13: =Narrative!A6 -> See comment box for projected salary + markup | C13: =+Narrative!B6 -> 0 | D13: =+Narrative!E6 -> 0 | E13: =+Narrative!J6 -> 0 | F13: =+Narrative!H6 -> 0 | G13: =+Narrative!I6 -> 0 | I13: =+G13 -> 0 | J13: 1 | K13: =(+ROUND($I13*J13,0)) -> 0 | M13: 0 | N13: =(+ROUND($I13*M13,0)) -> 0 | P13: 0 | Q13: =(+ROUND($I13*P13,0)) -> 0 | S13: 0 | T13: =(+ROUND($I13*S13,0)) -> 0 | Z13: 0 | AA13: =ROUND(+$G13*Z13,0) -> 0 | AC13: 0 | AD13: =I13-K13-N13-Q13-T13-AA13 -> 0 | AG13: =J13+M13+P13+S13+AC13+Z13 -> 1 | AH13: =K13+N13+Q13+T13+AD13+AA13 -> 0 | AI13: =+I13-AH13 -> 0
A14: =+Narrative!C7 -> 1 | B14: =Narrative!A7 -> 0 | C14: =+Narrative!B7 -> 0 | D14: =+Narrative!E7 -> 0 | E14: =+Narrative!J7 -> 0 | F14: =+Narrative!H7 -> 0 | G14: =+Narrative!I7 -> 0 | I14: =+G14 -> 0 | J14: 1 | K14: =(+ROUND($I14*J14,0)) -> 0 | M14: 0 | N14: =(+ROUND($I14*M14,0)) -> 0 | P14: 0 | Q14: =(+ROUND($I14*P14,0)) -> 0 | S14: 0 | T14: =(+ROUND($I14*S14,0)) -> 0 | Z14: 0 | AA14: =ROUND(+$G14*Z14,0) -> 0 | AC14: 0 | AD14: =I14-K14-N14-Q14-T14-AA14 -> 0 | AG14: =J14+M14+P14+S14+AC14+Z14 -> 1 | AH14: =K14+N14+Q14+T14+AD14+AA14 -> 0 | AI14: =+I14-AH14 -> 0
A15: =+Narrative!C8 -> 1 | B15: =Narrative!A8 -> 0 | C15: =+Narrative!B8 -> 0 | D15: =+Narrative!E8 -> 0 | E15: =+Narrative!J8 -> 0 | F15: =+Narrative!H8 -> 0 | G15: =+Narrative!I8 -> 0 | I15: =+G15 -> 0 | J15: 1 | K15: =(+ROUND($I15*J15,0)) -> 0 | M15: 0 | N15: =(+ROUND($I15*M15,0)) -> 0 | P15: 0 | Q15: =(+ROUND($I15*P15,0)) -> 0 | S15: 0 | T15: =(+ROUND($I15*S15,0)) -> 0 | Z15: 0 | AA15: =ROUND(+$G15*Z15,0) -> 0 | AC15: 0 | AD15: =I15-K15-N15-Q15-T15-AA15 -> 0 | AG15: =J15+M15+P15+S15+AC15+Z15 -> 1 | AH15: =K15+N15+Q15+T15+AD15+AA15 -> 0 | AI15: =+I15-AH15 -> 0
J16: 1 | K16: =(+$G16*J16) -> 0 | N16: =(+$G16*M16) -> 0 | Q16: =(+$G16*P16) -> 0 | T16: =(+$G16*S16) -> 0 | W16: =ROUND(+$G16*V16,0) -> 0 | AD16: =(+$G16*AC16) -> 0 | AH16: =+K16+N16+Q16+T16+W16+AD16 -> 0 | AI16: =+I16-AH16 -> 0
A17: 5209 | C17: TOTAL FTE/Temporary Salaries & Mark-up | D17: =+SUM(A12:A15) -> 4 | E17: FTE | F17: =SUM(F12:F16) -> 0 | G17: =SUM(G12:G16) -> 0 | I17: =SUM(I12:I16) -> 0 | K17: =SUM(K12:K16) -> 0 | N17: =SUM(N12:N16) -> 0 | Q17: =SUM(Q12:Q16) -> 0 | T17: =SUM(T12:T16) -> 0 | V17: =SUM(#REF!) -> #REF! | W17: =SUM(W16:W16) -> 0 | AA17: =SUM(AA12:AA16) -> 0 | AD17: =SUM(AD12:AD16) -> 0 | AH17: =SUM(AH12:AH16) -> 0 | AI17: =+I17-AH17 -> 0
AI18: =+I18-AH18 -> 0
C19: Supplies | AI19: =+I19-AH19 -> 0
A20: 5221 | C20: Office & Computer Supplies Inc. Reproductiion | G20: =Narrative!I13 -> 0 | J20: 1 | K20: =+ROUND($G$20*J20,0) -> 0 | M20: 0 | N20: =+ROUND($G$20*M20,0) -> 0 | P20: 0 | Q20: =+ROUND($G$20*P20,0) -> 0 | S20: 0 | T20: =+ROUND($G$20*S20,0) -> 0 | V20: =+#REF! -> #REF! | W20: =ROUND(+$G20*V20,0) -> #REF! | Z20: 0 | AA20: =+ROUND($G$20*Z20,0) -> 0 | AC20: 0 | AD20: =G20-K20-N20-Q20-T20-AA20 -> 0 | AE20: =+$G$20*AD20 -> 0 | AG20: =SUM(J20,M20,P20,S20,AC20,,Z20) -> 1 | AH20: =SUM(K20,N20,Q20,T20,AD20,AA20) -> 0 | AI20: =+AH20-G20 -> 0
A21: 5219 | C21: Printing | G21: =Narrative!I15 -> 0 | J21: 1 | K21: =+ROUND($G$21*J21,0) -> 0 | M21: 0 | N21: =+ROUND($G$21*M21,0) -> 0 | P21: 0 | Q21: =+ROUND($G$21*P21,0) -> 0 | S21: 0 | T21: =+ROUND($G$21*S21,0) -> 0 | Z21: 0 | AA21: =+ROUND($G$21*Z21,0) -> 0 | AC21: 0 | AD21: =G21-K21-N21-Q21-T21-AA21 -> 0 | AG21: =SUM(J21,M21,P21,S21,AC21,Z21) -> 1 | AH21: =SUM(K21,N21,Q21,T21,AD21,AA21) -> 0 | AI21: =+AH21-G21 -> 0
M22: 0 | P22: 0 | S22: 0 | Z22: 0 | AC22: 0 | AI22: =+AH22-G22 -> #VALUE!
C23: Postage | M23: 0 | P23: 0 | S23: 0 | Z23: 0 | AC23: 0 | AI23: =+AH23-G23 -> #VALUE!
A24: 5223 | C24: Regular Postage | G24: =Narrative!I14 -> 0 | J24: 1 | K24: =+ROUND($G$24*J24,0) -> 0 | M24: 0 | N24: =+ROUND($G$24*M24,0) -> 0 | P24: 0 | Q24: =+ROUND($G$24*P24,0) -> 0 | S24: 0 | T24: =+ROUND($G$24*S24,0) -> 0 | V24: 0.016 | W24: =ROUND(+$G24*V24,0) -> 0 | Z24: 0 | AA24: =+ROUND($G$24*Z24,0) -> 0 | AC24: 0 | AD24: =G24-K24-N24-Q24-T24-AA24 -> 0 | AG24: =SUM(J24,M24,P24,S24,AC24,Z24) -> 1 | AH24: =SUM(K24,N24,Q24,T24,AD24,AA24) -> 0 | AI24: =+AH24-G24 -> 0
M25: 0 | P25: 0 | S25: 0 | Z25: 0 | AC25: 0 | AI25: =+AH25-G25 -> 0
C26: Other: | K26: =ROUND(+$G26*J26,0) -> 0 | M26: 0 | N26: =ROUND(+$G26*M26,0) -> 0 | P26: 0 | Q26: =ROUND(+$G26*P26,0) -> 0 | S26: 0 | T26: =ROUND(+$G26*S26,0) -> 0 | Z26: 0 | AA26: =ROUND(+$G26*Z26,0) -> 0 | AC26: 0 | AD26: =ROUND(+$G26*AC26,0) -> 0 | AI26: =+AH26-G26 -> 0
C27: Insurance | M27: 0 | P27: 0 | S27: 0 | Z27: 0 | AC27: 0 | AI27: =+AH27-G27 -> 0
A28: 5251 | C28: Auto | K28: =ROUND(+$G28*J28,0) -> 0 | M28: 0 | N28: =ROUND(+$G28*M28,0) -> 0 | P28: 0 | Q28: =ROUND(+$G28*P28,0) -> 0 | S28: 0 | T28: =ROUND(+$G28*S28,0) -> 0 | Z28: 0 | AA28: =ROUND(+$G28*Z28,0) -> 0 | AC28: 0 | AD28: =ROUND(+$G28*AC28,0) -> 0 | AI28: =+AH28-G28 -> 0
A29: 5256 | C29: Bonding | M29: 0 | P29: 0 | S29: 0 | Z29: 0 | AC29: 0 | AI29: =+AH29-G29 -> 0
A30: 5254 | C30: Crime | M30: 0 | P30: 0 | S30: 0 | Z30: 0 | AC30: 0 | AI30: =+AH30-G30 -> 0
A31: 5255 | C31: Flood | M31: 0 | P31: 0 | S31: 0 | Z31: 0 | AC31: 0 | AI31: =+AH31-G31 -> 0
A32: 5250 | C32: General Liability | M32: 0 | P32: 0 | S32: 0 | Z32: 0 | AC32: 0 | AI32: =+AH32-G32 -> 0
A33: 5252 | C33: Property | K33: =ROUND(+$G33*J33,0) -> 0 | M33: 0 | N33: =ROUND(+$G33*M33,0) -> 0 | P33: 0 | Q33: =ROUND(+$G33*P33,0) -> 0 | S33: 0 | T33: =ROUND(+$G33*S33,0) -> 0 | Z33: 0 | AA33: =ROUND(+$G33*Z33,0) -> 0 | AC33: 0 | AD33: =ROUND(+$G33*AC33,0) -> 0 | AI33: =+AH33-G33 -> 0
C34: Other: | K34: =ROUND(+$G34*J34,0) -> 0 | M34: 0 | N34: =ROUND(+$G34*M34,0) -> 0 | P34: 0 | Q34: =ROUND(+$G34*P34,0) -> 0 | S34: 0 | T34: =ROUND(+$G34*S34,0) -> 0 | Z34: 0 | AA34: =ROUND(+$G34*Z34,0) -> 0 | AC34: 0 | AD34: =ROUND(+$G34*AC34,0) -> 0 | AI34: =+AH34-G34 -> 0
C35: Travel | M35: 0 | P35: 0 | S35: 0 | Z35: 0 | AC35: 0 | AI35: =+AH35-G35 -> 0
A36: 5241 | C36: Local,including tolls &parking | G36: =Narrative!I16 -> 0 | J36: 1 | K36: =+ROUND($G$36*J36,0) -> 0 | M36: 0 | N36: =+ROUND($G$36*M36,0) -> 0 | P36: 0 | Q36: =+ROUND($G$36*P36,0) -> 0 | S36: 0 | T36: =+ROUND($G$36*S36,0) -> 0 | V36: =+#REF! -> #REF! | W36: =ROUND(+$G36*V36,0) -> #REF! | Z36: 0 | AA36: =+ROUND($G$36*Z36,0) -> 0 | AC36: 0 | AD36: =G36-K36-N36-Q36-T36-AA36 -> 0 | AG36: =SUM(J36,M36,P36,S36,AC36,Z36) -> 1 | AH36: =SUM(K36,N36,Q36,T36,AD36,AA36) -> 0 | AI36: =+AH36-G36 -> 0
A37: 5243 | C37: Out-of-town Travel | G37: =Narrative!I19 -> 0 | J37: 1 | K37: =+ROUND($G$37*J37,0) -> 0 | M37: 0 | N37: =+ROUND($G$37*M37,0) -> 0 | P37: 0 | Q37: =+ROUND($G$37*P37,0) -> 0 | S37: 0 | T37: =+ROUND($G$37*S37,0) -> 0 | Z37: 0 | AA37: =+ROUND($G$37*Z37,0) -> 0 | AC37: 0 | AD37: =G37-K37-N37-Q37-T37-AA37 -> 0 | AG37: =SUM(J37,M37,P37,S37,AC37,Z37) -> 1 | AH37: =SUM(K37,N37,Q37,T37,AD37,AA37) -> 0 | AI37: =+AH37-G37 -> 0
M38: 0 | P38: 0 | S38: 0 | Z38: 0 | AC38: 0 | AI38: =+AH38-G38 -> 0
C39: Professional Services (list each) | M39: 0 | P39: 0 | S39: 0 | Z39: 0 | AC39: 0 | AI39: =+AH39-G39 -> #VALUE!
A40: 5230 | C40: Background Check-Staff $36 per staff estimated | G40: =Narrative!I20 -> 0 | J40: 1 | K40: =+ROUND($G$40*J40,0) -> 0 | M40: 0 | N40: =+ROUND($G$40*M40,0) -> 0 | P40: 0 | Q40: =+ROUND($G$40*P40,0) -> 0 | S40: 0 | T40: =+ROUND($G$40*S40,0) -> 0 | V40: =+V36 -> #REF! | W40: =ROUND(+$G40*V40,0) -> #REF! | Z40: 0 | AA40: =+ROUND($G$40*Z40,0) -> 0 | AC40: 0 | AD40: =G40-K40-N40-Q40-T40-AA40 -> 0 | AG40: =SUM(J40,M40,P40,S40,AC40,Z40) -> 1 | AH40: =SUM(K40,N40,Q40,T40,AD40,AA40) -> 0 | AI40: =+AH40-G40 -> 0
A41: 5224 | C41: =Narrative!A21 -> Place Holder | G41: =Narrative!I21 -> 0 | J41: 1 | K41: =+ROUND($G$41*J41,0) -> 0 | M41: 0 | N41: =+ROUND($G$41*M41,0) -> 0 | P41: 0 | Q41: =+ROUND($G$41*P41,0) -> 0 | S41: 0 | T41: =+ROUND($G$41*S41,0) -> 0 | V41: =+#REF! -> #REF! | W41: =ROUND(+$G41*V41,0) -> #REF! | Z41: 0 | AA41: =+ROUND($G$41*Z41,0) -> 0 | AC41: 0 | AD41: =G41-K41-N41-Q41-T41-AA41 -> 0 | AG41: =SUM(J41,M41,P41,S41,AC41,Z41) -> 1 | AH41: =SUM(K41,N41,Q41,T41,AD41,AA41) -> 0 | AI41: =+AH41-G41 -> 0
A42: 5218 | C42: =Narrative!A22 -> Place Holder | G42: =Narrative!I22 -> 0 | J42: 1 | K42: =+ROUND($G$42*J42,0) -> 0 | M42: 0 | N42: =+ROUND($G$42*M42,0) -> 0 | P42: 0 | Q42: =+ROUND($G$42*P42,0) -> 0 | S42: 0 | T42: =+ROUND($G$42*S42,0) -> 0 | Z42: 0 | AA42: =+ROUND($G$42*Z42,0) -> 0 | AC42: 0 | AD42: =G42-K42-N42-Q42-T42-AA42 -> 0 | AG42: =SUM(J42,M42,P42,S42,AC42,Z42) -> 1 | AH42: =SUM(K42,N42,Q42,T42,AD42,AA42) -> 0 | AI42: =+AH42-G42 -> 0
A43: 5216 | C43: =Narrative!A23 -> Place Holder | G43: =Narrative!I23 -> 0 | J43: 1 | K43: =+ROUND($G$43*J43,0) -> 0 | M43: 0 | N43: =+ROUND($G$43*M43,0) -> 0 | P43: 0 | Q43: =+ROUND($G$43*P43,0) -> 0 | S43: 0 | T43: =+ROUND($G$43*S43,0) -> 0 | Z43: 0 | AA43: =+ROUND($G$43*Z43,0) -> 0 | AC43: 0 | AD43: =G43-K43-N43-Q43-T43-AA43 -> 0 | AG43: =SUM(J43,M43,P43,S43,AC43,Z43) -> 1 | AH43: =SUM(K43,N43,Q43,T43,AD43,AA43) -> 0 | AI43: =+AH43-G43 -> 0
A44: 5242 | C44: =Narrative!A24 -> Place Holder | G44: =Narrative!I24 -> 0 | J44: 1 | K44: =+ROUND($G$44*J44,0) -> 0 | M44: 0 | N44: =+ROUND($G$44*M44,0) -> 0 | P44: 0 | Q44: =+ROUND($G$44*P44,0) -> 0 | S44: 0 | T44: =+ROUND($G$44*S44,0) -> 0 | Z44: 0 | AA44: =+ROUND($G$44*Z44,0) -> 0 | AC44: 0 | AD44: =G44-K44-N44-Q44-T44-AA44 -> 0 | AG44: =SUM(J44,M44,P44,S44,AC44,Z44) -> 1 | AH44: =SUM(K44,N44,Q44,T44,AD44,AA44) -> 0 | AI44: =+AH44-G44 -> 0
...

Sheet Narrative
B1: Agency Name: | C1: ABC Workforce Services
B2: Project Name: | C2: Special Projects-Camillus House
B3: Time Period | C3: 7/1/2020-6/30/2021
A4: Staff | B4: Position | C4: FTE | D4: % of salaries Charged to this Program | E4: Hourly Rate of Pay | F4: # of (weeks) | G4: Weekly Salary | H4: Total Annual Salary | I4: Projected Salary Plus Markup | J4: Projected Salary Mark-up Rate
A5: Enter Staff Member Name | B5: Enter Title | C5: 1 | D5: 1 | E5: 0 | F5: 30 | G5: =+H5/F5 -> 0 | H5: =+E5*F5*40*D5 -> 0 | I5: =+ROUND(H5*1.3,0) -> 0 | J5: =+E5*1.3 -> 0
A6: See comment box for projected salary + markup | C6: 1 | D6: 1 | E6: 0 | F6: 30 | G6: =+H6/F6 -> 0 | H6: =+E6*F6*40*D6 -> 0 | I6: =+ROUND(H6*1.3,0) -> 0 | J6: =+E6*1.3 -> 0
C7: 1 | D7: 1 | E7: 0 | F7: 30 | G7: =+H7/F7 -> 0 | H7: =+E7*F7*40*D7 -> 0 | I7: =+ROUND(H7*1.3,0) -> 0 | J7: =+E7*1.3 -> 0
C8: 1 | D8: 1 | E8: 0 | F8: 30 | G8: =+H8/F8 -> 0 | H8: =+E8*F8*40*D8 -> 0 | I8: =+ROUND(H8*1.3,0) -> 0 | J8: =+E8*1.3 -> 0
A10: TOTAL Staffing Services PLUS Markup | C10: =+SUM(C5:C8) -> 4 | D10: FTE | E10: 22nd Century Technologies, Inc. | I10: =+SUM(I5:I8) -> 0
A12: PROGRAM BUDGET NARRATIVE (CONTINUED)
A13: Office Supplies | B13: Office,computer, reproduction supplies estimated at per month | F13: 0 | G13: x | H13: 12 months | I13: =+ROUND(F13*12,0) -> 0
A14: Postage Regular | B14: Regular Postage: estimated cost at approximately per month | F14: 0 | G14: x | H14: 12 months | I14: =+ROUND(F14*12,0) -> 0
A15: Printing Supplies | B15: Printing Supplies: estimated cost at approximately per month | F15: 0 | G15: x | H15: 12 months | I15: =+ROUND(F15*12,0) -> 0
A16: Travel Costs | B16: Local Travel Costs: [Mileage reimbursement for staff traveling on business, estimated at estimated at 168.54 miles per month at $0.445 each business mile x 12 months]=PLUS [$50 each in parking and tolls x 12 months]=$600.00. Total=$1500 | F16: 0 | G16: x | H16: 12 months | I16: =+F16+F17 -> 0
F17: 0
B18: Services from Work number for client verifications estimated at $30,000.00 allocated to center multiplied by 12. | D18: 0 | E18: x | F18: 9 | I18: =+D18*F18 -> 0
B19: Out-of-Town/Travel: For staff to attend trainings/conference provided out of town [Lodging and transportation] | I19: 0
A20: Background Check - Staff | B20: Cost of background checks as required, at $? per staff for an estimated ? staff members | D20: 0 | E20: x | F20: 0 | I20: =D20*F20 -> 0
A21: Place Holder | B21: Place Holder | I21: 0
A22: Place Holder | B22: Place Holder | I22: 0
A23: Place Holder | B23: Place Holder | I23: 0
A24: Place Holder | B24: Place Holder | I24: 0
A25: Attrition | B25: Attrition is set aside for re-budgeting purposes | I25: 0
A26: Total Direct Program costs | I26: =+I10+SUM(I13:I25) -> 0
A29: ADMINISTRATIVE BUDGET NARRATIVE
A31: ADMINISTRATIVE COST
A32: Negotiated Indirect Cost Rate of 10% of total modified direct program costs, which are total program costs less the cost of space and equipment leases, less assistance to participants. Administrative costs include but are not limited to salaries and fringes of the following: human resources, accounting, IT, maintenance, clerical and administrative staff; support costs of the above positions such as space rental, office supplies, attorney fees, consulting fees, audit services, maintenance, staff development, insurance and other general & administrative costs.
A33: Indirect Cost Rate: | C33: 0.1 | E33: =+I26 -> 0 | I33: =+ROUNDUP(C33*E33,0) -> 0
A35: TOTAL ADMINISTRATIVE COST | I35: =+I33 -> 0
A38: TOTAL CONTRACT AMOUNT | I38: =+I26+I35 -> 0

Sheet Administrative
B1: BUDGET: PROJECTED ADMINISTRATIVE COST
M2: Complete only if you are claimin administrative cost
B3: Agency Name:
B4: Project Name:
B5: Period: | C5: 7/1/2024-6/30/2025 | G5: 12 | H5: months
A9: GL Code | B9: Indirect Cost Rate Calculation | G9: TANF | J9: WIOA Adult | M9: WIOA Dislocated Worker | P9: WIOA Rapid Response | S9: FSET (Oct-June) | V9: SNAP/FSET | Y9: RESEA | AC9: TOTAL
H10: Amount | K10: Amount | N10: Amount | Q10: Amount | S10: % | T10: Amount | W10: Amount | Z10: Amount | AD10: Amount
B11: Allocation Base (Modified Total Direct Cost) | D11: =+'Program Cost'!G49 -> 0 | H11: =+'Program Cost'!K49 -> 0 | K11: =+'Program Cost'!N49 -> 0 | N11: =+'Program Cost'!Q49 -> 0 | Q11: =+'Program Cost'!T49 -> 0 | S11: 0.016 | T11: =SUM(#REF!*S11) -> #REF! | W11: =+'Program Cost'!AA49 -> 0 | Z11: =+'Program Cost'!AD49 -> 0 | AD11: =+Z11+Q11+N11+K11+H11+W11 -> 0
B12: Total Direct Costs
B13: Less: Lease/Rent
B14: Less: Capital Items
B15: Less: Equipment
B16: Modified Total Direct Costs | D16: =+D11 -> 0 | H16: =+H11 -> 0 | K16: =+K11 -> 0 | N16: =+N11 -> 0 | Q16: =+Q11 -> 0 | S16: 0.016 | T16: =SUM(D16*S16) -> 0 | W16: =+W11 -> 0 | Z16: =+Z11 -> 0 | AD16: =+Z16+Q16+N16+K16+H16+W16 -> 0
B18: Indirect Cost Rate | D18: 0.1
A20: 5780 | B20: TOTAL Indirect Costs | D20: =+ROUNDUP(D16*D18,0) -> 0 | H20: =+ROUND(H16*$D$18,0) -> 0 | K20: =+ROUND(K16*$D$18,0) -> 0 | N20: =+ROUND(N16*$D$18,0) -> 0 | Q20: =+ROUND(Q16*$D$18,0) -> 0 | S20: 0.016 | T20: =SUM(D20*S20) -> 0 | W20: =+ROUND(W16*$D$18,0) -> 0 | Z20: =+ROUNDDOWN(Z16*$D$18,0) -> 0 | AD20: =+Z20+Q20+N20+K20+H20+W20 -> 0
H21: =ROUND(+$E21*G21,0) -> 0 | K21: =ROUND(+$E21*J21,0) -> 0 | N21: =ROUND(+$E21*M21,0) -> 0 | Q21: =ROUND(+$E21*P21,0) -> 0 | T21: =ROUND(+$E21*S21,0) -> 0 | W21: =ROUND(+$E21*V21,0) -> 0 | Z21: =ROUND(+$E21*Y21,0) -> 0
B22: TOTAL PROJECTED ADMINISTRATIVE COST | H22: =+H20 -> 0 | K22: =+K20 -> 0 | N22: =+N20 -> 0 | Q22: =+Q20 -> 0 | S22: =SUM(S15:S20) -> 0.032 | T22: =SUM(T15:T21) -> 0 | W22: =+W20 -> 0 | Z22: =+Z20 -> 0 | AD22: =+AD20 -> 0

Sheet Funding 
A1: Funding
B2: Camillus House Allocation
A3: TANF | B3: =+'Program Cost'!K63 -> 0 | C3: =B3/$B$11 -> #REF!
A4: WIOA Adult | B4: =+'Program Cost'!N61 -> 0 | C4: =B4/$B$11 -> #REF!
A5: WIOA Dislocated | B5: =+'Program Cost'!Q61 -> 0 | C5: =B5/$B$11 -> #REF!
A6: WIOA Rapid | B6: =+'Program Cost'!T61 -> 0 | C6: =B6/$B$11 -> #REF!
A7: SNAP July-Sept. | B7: =+'Program Cost'!AA61 -> 0 | C7: =B7/$B$11 -> #REF!
A8: SNAP Oct-June | B8: =+'Program Cost'!#REF! -> #REF! | C8: =B8/$B$11 -> #REF!
A9: UC | B9: =+'Program Cost'!AD61 -> 0 | C9: =B9/$B$11 -> #REF!
A10: RESEA | B10: =+'Program Cost'!#REF! -> #REF! | C10: =B10/$B$11 -> #REF!
B11: =+SUM(B3:B10) -> #REF! | C11: =SUM(C3:C10) -> #REF!
A13: Training
B14: WIOA Adult | C14: WIOA Dislocated | D14: WIOA Rapid Response | E14: TANF | F14: Total
A15: Total Allocation | B15: 14277 | C15: 15232 | D15: 4136 | E15: 26355 | F15: =ROUND(B15+C15+D15+E15,0) -> 60000

Sheet Insurance
D5: ABC Workforce Services (Opa-Locka)
D7: Staff Name | E7: Position Title | F7: Monthly Cost of Health and Dental | G7: Health Insurance Premium | H7: Dental Insurance Premium | I7: Comments
D8: =Narrative!#REF! -> #REF! | E8: Career Development Center Manager FMU | N8: =87.25+26.25 -> 113.5
D9: =Narrative!#REF! -> #REF! | E9: Workforce Supervisor Camillus house
D10: =Narrative!#REF! -> #REF! | E10: Career Advisor | F10: =G10+H10 -> 200.75 | G10: 174.5 | H10: 26.25 | I10: Employee transferred from Northside so benefits have already started
D11: =Narrative!#REF! -> #REF! | E11: Career Advisor
D12: =Narrative!#REF! -> #REF! | E12: Business Services rep
